BEGIN:VCALENDAR
VERSION:2.0
PRODID:-//Sims Middle School PTO - ECPv6.15.17.1//NONSGML v1.0//EN
CALSCALE:GREGORIAN
METHOD:PUBLISH
X-ORIGINAL-URL:https://simsmiddleschoolpto.com
X-WR-CALDESC:Events for Sims Middle School PTO
REFRESH-INTERVAL;VALUE=DURATION:PT1H
X-Robots-Tag:noindex
X-PUBLISHED-TTL:PT1H
BEGIN:VTIMEZONE
TZID:America/Chicago
BEGIN:DAYLIGHT
TZOFFSETFROM:-0600
TZOFFSETTO:-0500
TZNAME:CDT
DTSTART:20230312T080000
END:DAYLIGHT
BEGIN:STANDARD
TZOFFSETFROM:-0500
TZOFFSETTO:-0600
TZNAME:CST
DTSTART:20231105T070000
END:STANDARD
BEGIN:DAYLIGHT
TZOFFSETFROM:-0600
TZOFFSETTO:-0500
TZNAME:CDT
DTSTART:20240310T080000
END:DAYLIGHT
BEGIN:STANDARD
TZOFFSETFROM:-0500
TZOFFSETTO:-0600
TZNAME:CST
DTSTART:20241103T070000
END:STANDARD
BEGIN:DAYLIGHT
TZOFFSETFROM:-0600
TZOFFSETTO:-0500
TZNAME:CDT
DTSTART:20250309T080000
END:DAYLIGHT
BEGIN:STANDARD
TZOFFSETFROM:-0500
TZOFFSETTO:-0600
TZNAME:CST
DTSTART:20251102T070000
END:STANDARD
END:VTIMEZONE
BEGIN:VEVENT
DTSTART;VALUE=DATE:20240607
DTEND;VALUE=DATE:20240608
DTSTAMP:20260422T172928
CREATED:20230625T135523Z
LAST-MODIFIED:20230625T135523Z
UID:18365-1717718400-1717804799@simsmiddleschoolpto.com
SUMMARY:Fourth Quarter Report Cards (Middle School)
DESCRIPTION:
URL:https://simsmiddleschoolpto.com/event/fourth-quarter-report-cards-middle-school/
CATEGORIES:School in Session
END:VEVENT
BEGIN:VEVENT
DTSTART;VALUE=DATE:20240811
DTEND;VALUE=DATE:20240813
DTSTAMP:20260422T172928
CREATED:20240702T161028Z
LAST-MODIFIED:20240702T161028Z
UID:19308-1723417200-1723503599@simsmiddleschoolpto.com
SUMMARY:First Day of School
DESCRIPTION:
URL:https://simsmiddleschoolpto.com/event/first-day-of-school-2-2/
CATEGORIES:School in Session
END:VEVENT
BEGIN:VEVENT
DTSTART;VALUE=DATE:20241019
DTEND;VALUE=DATE:20241021
DTSTAMP:20260422T172928
CREATED:20220521T183521Z
LAST-MODIFIED:20220521T183521Z
UID:16875-1729378800-1729465199@simsmiddleschoolpto.com
SUMMARY:First Quarter Report Cards
DESCRIPTION:
URL:https://simsmiddleschoolpto.com/event/q1-report-cards-2/
LOCATION:unnamed-file.jpg
CATEGORIES:School in Session
END:VEVENT
END:VCALENDAR